BEGIN:VCALENDAR
VERSION:2.0
PRODID:-//chikkutakku.com//RDFCal 1.0//EN
X-WR-CALDESC:GoogleカレンダーやiCalendar形式情報を共有シェ
 アしましょう。近所のイベントから全国のイベントま
 で今日のイベント検索やスケジュールを決めるならち
 っくたっく
X-WR-CALNAME:ちっくたっく
X-WR-TIMEZONE:UTC
BEGIN:VEVENT
SUMMARY:營建系系羽練習(未審已繳費)
DTSTART;VALUE=DATE-TIME:20260424T160000Z
DTEND;VALUE=DATE-TIME:20260425T160000Z
UID:221974961755
DESCRIPTION:營建系系羽練習(未審已繳費)
LOCATION:
END:VEVENT
END:VCALENDAR
