BEGIN:VCALENDAR
VERSION:2.0
PRODID:-//chikkutakku.com//RDFCal 1.0//EN
X-WR-CALDESC:GoogleカレンダーやiCalendar形式情報を共有シェ
 アしましょう。近所のイベントから全国のイベントま
 で今日のイベント検索やスケジュールを決めるならち
 っくたっく
X-WR-CALNAME:ちっくたっく
X-WR-TIMEZONE:UTC
BEGIN:VEVENT
SUMMARY:【注】銀河鉄道999 #29 サケザン大陸 / #30 幽霊世界
 のフィラメント / #31 怒髪星 / #32 停時空間のかじられ星
  / #33 ウラトレスのネジ山 / #34 プレーテッド・シティの
 魔女 前編 / #35 プレーテッド・シティの魔女 後編
DTSTART;VALUE=DATE-TIME:20260419T220000Z
DTEND;VALUE=DATE-TIME:20260420T013000Z
UID:222785731645
DESCRIPTION: / #29 サケザン大陸 / #30 幽霊世界のフィラメン
 ト / #31 怒髪星 / #32 停時空間のかじられ星 / #33 ウラト
 レスのネジ山 / #34 プレーテッド・シティの魔女 前編 / 
 #35 プレーテッド・シティの魔女 後編 / https://abema.tv/chan
 nels/80s-anime-1/slots/Art73iJFRR2it7 リピート放送は 22:30～ https
 ://abema.tv/channels/80s-anime-1/slots/Aod7FPmZdaxJ31 (無料TS1週間) ht
 tps://prtimes.jp/main/html/rd/p/000003026.000064643.html
LOCATION:なつかしアニメ80's
END:VEVENT
END:VCALENDAR
