BEGIN:VCALENDAR
VERSION:2.0
PRODID:-//chikkutakku.com//RDFCal 1.0//EN
X-WR-CALDESC:GoogleカレンダーやiCalendar形式情報を共有シェ
 アしましょう。近所のイベントから全国のイベントま
 で今日のイベント検索やスケジュールを決めるならち
 っくたっく
X-WR-CALNAME:ちっくたっく
X-WR-TIMEZONE:UTC
BEGIN:VEVENT
SUMMARY:【Android 対応】【Bar＆Poker】7'sStreet
DTSTART;VALUE=DATE-TIME:20260424T130000Z
DTEND;VALUE=DATE-TIME:20260424T145900Z
UID:223378866162
DESCRIPTION:【イベント主催者】\n　Towacyun*\n【イベント内
 容】\n　22:00Bar\n22:30 Bar＆Tournament\n23:00Bar＆Pokerのイベン
 トです　\n当店のポーカーはStud or PLOルールになります
 、\nNLHではありませんのでお気を付けください。\n初め
 ての方でも教えますのでお気軽に参加下さい\n【イベン
 トジャンル】\n　店舗系イベント\, 定期イベント\n【参
 加条件（モデル、人数制限など）】\n　容量の大きいア
 バター(50MB以上)はなるべくご遠慮下さい\n【参加方法】
 \n　7'sStreetのgroupからInstansJoin\nhttps://vrc.group/7SST.5433\n【
 備考】\n　https://x.com/7sStreet_VRC & group 　にて当日のポー
 カールール告知をしています
LOCATION:
END:VEVENT
END:VCALENDAR
