BEGIN:VCALENDAR
VERSION:2.0
PRODID:-//chikkutakku.com//RDFCal 1.0//EN
X-WR-CALDESC:GoogleカレンダーやiCalendar形式情報を共有シェ
 アしましょう。近所のイベントから全国のイベントま
 で今日のイベント検索やスケジュールを決めるならち
 っくたっく
X-WR-CALNAME:ちっくたっく
X-WR-TIMEZONE:UTC
BEGIN:VEVENT
SUMMARY:【埼玉】Negicco＠ゴールデンウィークの八木橋百
 貨店で感謝祭 2026
DTSTART;VALUE=DATE-TIME:20260502T070000Z
DTEND;VALUE=DATE-TIME:20260502T090000Z
UID:223606316616
DESCRIPTION:●イベント詳細タイトル：ゴールデンウィー
 クの八木橋百貨店で感謝祭 2026イベント内容：トーク＆
 ライブ＆大抽選会日程：2026年5月2日（土）開場15:30／開
 演16:00会場：八木橋百貨店　8階カトレアホール（埼玉
 県熊谷市　仲町74）出演：Negiccoチケット：（１）全自
 由席（一般） ￥3\,500（税込）（２）全自由席（学割） 
 ￥1\,500（税込）※本公演は『紙チケット』となります
 。※チケット記載の整理番号順での入場となります。
 ※時間に遅れた場合は最後尾からの入場となります。
 ご了承ください。※4歳未満ひざ上無料、ただし4歳未満
 でも席が必要な場合は有料となります。※車椅子エリ
 アを用意させていただきます。＜学割チケットについ
 て＞・学割チケットをご購入の方はご入場の際、公的
 身分証明書をご用意ください。（例：健康保険証、住
 民票、戸籍謄本、学生証など）・学割対象者は小学生
 未満、小学生・中学生・高校生・大学生・専門学校生
 となります。《チケット発売日》・Negicco House～Negicco 
 公式ファンクラブ～会員先行抽選受付■受付期間：2026
 年1月13日(火)18:00～2026年1月27日(火)23:59まで※チケット
 受付はお一人様5枚までとなります。■抽選結果確認・
 入金期間：店頭決済をご選択された方：2026年1月30日(金
 )15:00～2026年2月3日(火)23:00までクレジット決済をご選択
 された方：2026年1月30日(金)15:00～公演日当日まで※クレ
 ジット決済は当選時に決済されます。■チケット引取
 期間2026年2月28日(土)12:00～公演日当日までお申込みはこ
 ちら・HP&amp\;SNS抽選先行受付■受付期間：2026年2月6日(
 金)19:00～2026年2月17日(火)23:59まで※チケット受付はお一
 人様5枚までとなります。■抽選結果確認・入金期間：
 店頭決済をご選択された方：2026年2月20日(金)15:00～2026
 年2月23日(月)23:00までクレジット決済をご選択された方
 ：2026年2月20日(金)15:00～公演日当日まで※クレジット決
 済は当選時に決済されます。■チケット引取期間2026年2
 月28日(土)12:00～公演日当日までお申し込みこちら！https
 ://l-tike.com/negicco/・一般発売2026年2月28日(土)12:00～https://
 l-tike.com/negicco/【問い合わせ】EHクリエイターズ info@negic
 co.net
LOCATION:八木橋百貨店\, 日本、〒360-8502 埼玉県熊谷市仲
 町７４
END:VEVENT
END:VCALENDAR
