BEGIN:VCALENDAR
VERSION:2.0
PRODID:-//chikkutakku.com//RDFCal 1.0//EN
X-WR-CALDESC:GoogleカレンダーやiCalendar形式情報を共有シェ
 アしましょう。近所のイベントから全国のイベントま
 で今日のイベント検索やスケジュールを決めるならち
 っくたっく
X-WR-CALNAME:ちっくたっく
X-WR-TIMEZONE:UTC
BEGIN:VEVENT
SUMMARY:最新最強の一般常識一問一答 '28年版
DTSTART;VALUE=DATE:20260420
DTEND;VALUE=DATE:20260421
UID:223636594014
DESCRIPTION:2026-04-21最新最強の一般常識一問一答 '28年版成
 美堂出版編集部成美堂出版
LOCATION:
END:VEVENT
END:VCALENDAR
