BEGIN:VCALENDAR
VERSION:2.0
PRODID:-//chikkutakku.com//RDFCal 1.0//EN
X-WR-CALDESC:GoogleカレンダーやiCalendar形式情報を共有シェ
 アしましょう。近所のイベントから全国のイベントま
 で今日のイベント検索やスケジュールを決めるならち
 っくたっく
X-WR-CALNAME:ちっくたっく
X-WR-TIMEZONE:UTC
BEGIN:VEVENT
SUMMARY:[1年]女性学マナー講習
DTSTART;VALUE=DATE-TIME:20260520T235000Z
DTEND;VALUE=DATE-TIME:20260521T014000Z
UID:223992829274
DESCRIPTION:[1年]女性学マナー講習
LOCATION:
END:VEVENT
END:VCALENDAR
