BEGIN:VCALENDAR
VERSION:2.0
PRODID:-//chikkutakku.com//RDFCal 1.0//EN
X-WR-CALDESC:GoogleカレンダーやiCalendar形式情報を共有シェ
 アしましょう。近所のイベントから全国のイベントま
 で今日のイベント検索やスケジュールを決めるならち
 っくたっく
X-WR-CALNAME:ちっくたっく
X-WR-TIMEZONE:UTC
BEGIN:VEVENT
SUMMARY:70歳からの簡単、安心スマホ術
DTSTART;VALUE=DATE:20260426
DTEND;VALUE=DATE:20260427
UID:224072907272
DESCRIPTION:2026-04-2770歳からの簡単、安心スマホ術渡辺 と
 しみ成美堂出版
LOCATION:
END:VEVENT
END:VCALENDAR
