BEGIN:VCALENDAR
VERSION:2.0
PRODID:-//chikkutakku.com//RDFCal 1.0//EN
X-WR-CALDESC:GoogleカレンダーやiCalendar形式情報を共有シェ
 アしましょう。近所のイベントから全国のイベントま
 で今日のイベント検索やスケジュールを決めるならち
 っくたっく
X-WR-CALNAME:ちっくたっく
X-WR-TIMEZONE:UTC
BEGIN:VEVENT
SUMMARY:悪役令嬢、今度はもっとうまくやる2 ところでお
 義兄様、ちょっと距離が近すぎませんか？
DTSTART;VALUE=DATE:20260519
DTEND;VALUE=DATE:20260520
UID:224660371334
DESCRIPTION:2026-05-20悪役令嬢、今度はもっとうまくやる2 
 ところでお義兄様、ちょっと距離が近すぎませんか？
 柊 一葉/桜花舞一迅社
LOCATION:
END:VEVENT
END:VCALENDAR
