BEGIN:VCALENDAR
VERSION:2.0
PRODID:-//chikkutakku.com//RDFCal 1.0//EN
X-WR-CALDESC:GoogleカレンダーやiCalendar形式情報を共有シェ
 アしましょう。近所のイベントから全国のイベントま
 で今日のイベント検索やスケジュールを決めるならち
 っくたっく
X-WR-CALNAME:ちっくたっく
X-WR-TIMEZONE:UTC
BEGIN:VEVENT
SUMMARY:Volunteer Training_Mountain Biking - Beyond the Basics
DTSTART;VALUE=DATE-TIME:20260504T153000Z
DTEND;VALUE=DATE-TIME:20260504T200000Z
UID:225280790611
DESCRIPTION:In this clinic\, you can expect to dive into more of the techn
 ical aspects of adaptive mountain biking. We will run through a quick refr
 esher of volunteer responsibilities and flow of the day during our mountai
 n bike programming. During this clinic\, we will take some time to get ref
 amiliar with our mountain bike fleet (potential candidates\, fit up/set up
 \, and operation controls for each bike). You will be introduced and get h
 ands-on practice working with bike adaptations for our 3 wheeled bikes. Du
 ring this training\, the group will be spending a lot of time on bikes rev
 isiting skill progressions and exploring some new terrain. The clinic will
  wrap up with some practical application of what we learned by running thr
 ough some mock lesson scenarios. Experience: Have taken an adaptive mount
 ain biking clinic with ASA or another program in the past. This clinic is 
 tailored towards returning volunteers that are looking to dive deeper than
  the intro clinic offers. If you have any questions\, feel free to reach o
 ut to Stefan at training@asadurango.com. 
LOCATION:
END:VEVENT
END:VCALENDAR
