BEGIN:VCALENDAR
VERSION:2.0
PRODID:-//chikkutakku.com//RDFCal 1.0//EN
X-WR-CALDESC:GoogleカレンダーやiCalendar形式情報を共有シェ
 アしましょう。近所のイベントから全国のイベントま
 で今日のイベント検索やスケジュールを決めるならち
 っくたっく
X-WR-CALNAME:ちっくたっく
X-WR-TIMEZONE:UTC
BEGIN:VEVENT
SUMMARY:MtGストアチャンピオンシップ：ストリクスヘイヴ
 ンの秘密
DTSTART;VALUE=DATE-TIME:20260516T040000Z
DTEND;VALUE=DATE-TIME:20260516T080000Z
UID:225417734061
DESCRIPTION:MtGストアチャンピオンシップ：ストリクスヘ
 イヴンの秘密
LOCATION:
END:VEVENT
END:VCALENDAR
