BEGIN:VCALENDAR
VERSION:2.0
PRODID:-//chikkutakku.com//RDFCal 1.0//EN
X-WR-CALDESC:GoogleカレンダーやiCalendar形式情報を共有シェ
 アしましょう。近所のイベントから全国のイベントま
 で今日のイベント検索やスケジュールを決めるならち
 っくたっく
X-WR-CALNAME:ちっくたっく
X-WR-TIMEZONE:UTC
BEGIN:VEVENT
SUMMARY:仮)大学案内web会議
DTSTART;VALUE=DATE-TIME:20260421T013000Z
DTEND;VALUE=DATE-TIME:20260421T030000Z
UID:225555611211
DESCRIPTION:▼申込内容\n予約日時: 2026/04/16 16:35:36\nお名前
 　: 佐藤　真季(地域未来共創センター)\n予約日　: 2026/0
 4/21(火)\n予約時間: 10:30～12:00
LOCATION:
END:VEVENT
END:VCALENDAR
