BEGIN:VCALENDAR
VERSION:2.0
PRODID:-//chikkutakku.com//RDFCal 1.0//EN
X-WR-CALDESC:GoogleカレンダーやiCalendar形式情報を共有シェ
 アしましょう。近所のイベントから全国のイベントま
 で今日のイベント検索やスケジュールを決めるならち
 っくたっく
X-WR-CALNAME:ちっくたっく
X-WR-TIMEZONE:UTC
BEGIN:VEVENT
SUMMARY:五六年級 代謝症候群宣導 活動中心
DTSTART;VALUE=DATE-TIME:20260430T023000Z
DTEND;VALUE=DATE-TIME:20260430T031500Z
UID:225558328066
DESCRIPTION:五六年級 代謝症候群宣導 活動中心
LOCATION:活動中心
END:VEVENT
END:VCALENDAR
