BEGIN:VCALENDAR
VERSION:2.0
PRODID:-//chikkutakku.com//RDFCal 1.0//EN
X-WR-CALDESC:GoogleカレンダーやiCalendar形式情報を共有シェ
 アしましょう。近所のイベントから全国のイベントま
 で今日のイベント検索やスケジュールを決めるならち
 っくたっく
X-WR-CALNAME:ちっくたっく
X-WR-TIMEZONE:UTC
BEGIN:VEVENT
SUMMARY:นพ.สสจ.เป็นประธานพิธีเป
 ิดศูนย์ CT Scan โรงพยาบาลชนแดน
DTSTART;VALUE=DATE-TIME:20260422T030000Z
DTEND;VALUE=DATE-TIME:20260422T050000Z
UID:225706759190
DESCRIPTION:นพ.สสจ.เป็นประธานพิธีเ
 ปิดศูนย์ CT Scan โรงพยาบาลชนแด
 น
LOCATION:โรงพยาบาลชนแดน\n113\, อำเภอ
 ชนแดน\, จ.เพชรบูรณ์ 67150\, ประเท
 ศไทย
END:VEVENT
END:VCALENDAR
