BEGIN:VCALENDAR
VERSION:2.0
PRODID:-//chikkutakku.com//RDFCal 1.0//EN
X-WR-CALDESC:GoogleカレンダーやiCalendar形式情報を共有シェ
 アしましょう。近所のイベントから全国のイベントま
 で今日のイベント検索やスケジュールを決めるならち
 っくたっく
X-WR-CALNAME:ちっくたっく
X-WR-TIMEZONE:UTC
BEGIN:VEVENT
SUMMARY:11:00石井あみ
DTSTART;VALUE=DATE:20260424
DTEND;VALUE=DATE:20260425
UID:225809952450
DESCRIPTION:2026年4月25日(土)アリオ八尾🎤#プリキュアシン
 ガー ミニライブ開催決定✨『#名探偵プリキュア！』オ
 ープニング主題歌歌手の#石井あみ さんプリキュアソン
 グをお届け！お楽しみに♪🎀イベント観覧無料🎀🗓 2
 026年4月25日(土)⏰①11:00　②14:00場所：アリオ八尾　1階
 レッドコート@ario_yao🎀『名探偵プリキュア！』主題歌
 シングル会場購入者限定特典お渡し会あります👐会場C
 D購入特典は「サイン印字入りL判ブロマイド」1枚石井
 あみさんご本人よりお渡し
LOCATION:
END:VEVENT
END:VCALENDAR
