BEGIN:VCALENDAR
VERSION:2.0
PRODID:-//chikkutakku.com//RDFCal 1.0//EN
X-WR-CALDESC:GoogleカレンダーやiCalendar形式情報を共有シェ
 アしましょう。近所のイベントから全国のイベントま
 で今日のイベント検索やスケジュールを決めるならち
 っくたっく
X-WR-CALNAME:ちっくたっく
X-WR-TIMEZONE:UTC
BEGIN:VEVENT
SUMMARY:The Flying Dutchman
DTSTART;VALUE=DATE-TIME:20260509T113000Z
DTEND;VALUE=DATE-TIME:20260509T140000Z
UID:226330569854
DESCRIPTION:Turbulent and dramaticRichard WAGNER Der fliegende Holländer 
 (The Flying Dutchman)Asher Fisch conductorChristopher Maltman The Dutchman
 Anna-Louise Cole SentaDavid Leigh DalandPaul O’Neill ErikRuth Burke Mary
 Andrew Goodwin SteersmanWASO ChorusWest Australian Opera ChorusWagner’s 
 thrilling The Flying Dutchman sets sail in this powerful concert performan
 ce. Asher Fisch is one of the world’s finest Wagner conductors\, and he 
 leads an all-star cast including celebrated British baritone Christopher M
 altman as the Dutchman\, exciting young American bass David Leigh as Dalan
 d\, and acclaimed soprano Anna-Louise Cole as the devoted Senta. They are 
 joined by the combined forces of the WASO and WA Opera Choruses for this d
 ramatic tale of love\, fate\, and redemption.https://www.waso.com.au/conce
 rts-tickets/whats-on/concert/flying-dutchman
LOCATION:Winthrop Hall UWA
END:VEVENT
END:VCALENDAR
