BEGIN:VCALENDAR
VERSION:2.0
PRODID:-//chikkutakku.com//RDFCal 1.0//EN
X-WR-CALDESC:GoogleカレンダーやiCalendar形式情報を共有シェ
 アしましょう。近所のイベントから全国のイベントま
 で今日のイベント検索やスケジュールを決めるならち
 っくたっく
X-WR-CALNAME:ちっくたっく
X-WR-TIMEZONE:UTC
BEGIN:VEVENT
SUMMARY:大日本古文書 家わけ第十七 大徳寺文書別集
DTSTART;VALUE=DATE:20260424
DTEND;VALUE=DATE:20260425
UID:226473132922
DESCRIPTION:2026-04-25大日本古文書 家わけ第十七 大徳寺文
 書別集東京大学史料編纂所東京大学出版会
LOCATION:
END:VEVENT
END:VCALENDAR
