BEGIN:VCALENDAR
VERSION:2.0
PRODID:-//chikkutakku.com//RDFCal 1.0//EN
X-WR-CALDESC:GoogleカレンダーやiCalendar形式情報を共有シェ
 アしましょう。近所のイベントから全国のイベントま
 で今日のイベント検索やスケジュールを決めるならち
 っくたっく
X-WR-CALNAME:ちっくたっく
X-WR-TIMEZONE:UTC
BEGIN:VEVENT
SUMMARY:令和8年岩手県大槌町の林野火災に対する非常取
 扱いの実施について\, via 日本郵便株式会社 https://ift.tt/
 wQEe0Uh April 24\, 2026 at
DTSTART;VALUE=DATE-TIME:20260425T000000Z
DTEND;VALUE=DATE-TIME:20260425T010000Z
UID:226675264432
DESCRIPTION:令和8年岩手県大槌町の林野火災に対する非常
 取扱いの実施について\, via 日本郵便株式会社 https://ift.
 tt/wQEe0Uh April 24\, 2026 at
LOCATION:
END:VEVENT
END:VCALENDAR
