BEGIN:VCALENDAR
VERSION:2.0
PRODID:-//chikkutakku.com//RDFCal 1.0//EN
X-WR-CALDESC:GoogleカレンダーやiCalendar形式情報を共有シェ
 アしましょう。近所のイベントから全国のイベントま
 で今日のイベント検索やスケジュールを決めるならち
 っくたっく
X-WR-CALNAME:ちっくたっく
X-WR-TIMEZONE:UTC
BEGIN:VEVENT
SUMMARY:オープンマイク🎤毎回がスペシャル！
DTSTART;VALUE=DATE:20260422
DTEND;VALUE=DATE:20260423
UID:226843393576
DESCRIPTION:【オープン】18:30\n【スタート】19:00\n【チャー
 ジ】1500円＋オーダー\n\n【ホスト】megumi（pf）\n\n\n基本
 的に2曲回しです。
LOCATION:
END:VEVENT
END:VCALENDAR
