BEGIN:VCALENDAR
VERSION:2.0
PRODID:-//chikkutakku.com//RDFCal 1.0//EN
X-WR-CALDESC:GoogleカレンダーやiCalendar形式情報を共有シェ
 アしましょう。近所のイベントから全国のイベントま
 で今日のイベント検索やスケジュールを決めるならち
 っくたっく
X-WR-CALNAME:ちっくたっく
X-WR-TIMEZONE:UTC
BEGIN:VEVENT
SUMMARY:30th Anniversary【完全生産限定アナログ盤】
DTSTART;VALUE=DATE:20260512
DTEND;VALUE=DATE:20260513
UID:226954581863
DESCRIPTION:2026-05-1330th Anniversary【完全生産限定アナログ盤
 】PUFFY(株)ソニー・ミュージックダイレクト
LOCATION:
END:VEVENT
END:VCALENDAR
