BEGIN:VCALENDAR
VERSION:2.0
PRODID:-//chikkutakku.com//RDFCal 1.0//EN
X-WR-CALDESC:GoogleカレンダーやiCalendar形式情報を共有シェ
 アしましょう。近所のイベントから全国のイベントま
 で今日のイベント検索やスケジュールを決めるならち
 っくたっく
X-WR-CALNAME:ちっくたっく
X-WR-TIMEZONE:UTC
BEGIN:VEVENT
SUMMARY:19！「Mo」教室変更【松浦】　情報とバラエティ2F
DTSTART;VALUE=DATE-TIME:20260422T100000Z
DTEND;VALUE=DATE-TIME:20260422T120000Z
UID:227474098777
DESCRIPTION:19！「Mo」教室変更【松浦】　情報とバラエテ
 ィ2F
LOCATION:
END:VEVENT
END:VCALENDAR
