BEGIN:VCALENDAR
VERSION:2.0
PRODID:-//chikkutakku.com//RDFCal 1.0//EN
X-WR-CALDESC:GoogleカレンダーやiCalendar形式情報を共有シェ
 アしましょう。近所のイベントから全国のイベントま
 で今日のイベント検索やスケジュールを決めるならち
 っくたっく
X-WR-CALNAME:ちっくたっく
X-WR-TIMEZONE:UTC
BEGIN:VEVENT
SUMMARY:アズキBar
DTSTART;VALUE=DATE-TIME:20260425T125500Z
DTEND;VALUE=DATE-TIME:20260425T140000Z
UID:227646552371
DESCRIPTION:【イベント主催者】\n　あずほ\n【イベント内
 容】\n　\n【イベントジャンル】\n　\n【参加条件（モデ
 ル、人数制限など）】\n　\n【参加方法】\n　\n【備考】
 \n　
LOCATION:
END:VEVENT
END:VCALENDAR
