BEGIN:VCALENDAR
VERSION:2.0
PRODID:-//chikkutakku.com//RDFCal 1.0//EN
X-WR-CALDESC:GoogleカレンダーやiCalendar形式情報を共有シェ
 アしましょう。近所のイベントから全国のイベントま
 で今日のイベント検索やスケジュールを決めるならち
 っくたっく
X-WR-CALNAME:ちっくたっく
X-WR-TIMEZONE:UTC
BEGIN:VEVENT
SUMMARY:ギャザリング寄せ植え
DTSTART;VALUE=DATE:20260516
DTEND;VALUE=DATE:20260517
UID:227698218028
DESCRIPTION:《花・maisonFUJIKO ギャザリングレッスン》\n\n【
 お申し込み方法】\n\n下記の内容をご記入の上、\nhttps://
 www.instagram.com/hanamaison.fujiko/\nまたは\nhttps://hanamaisonfujiko.
 com よりお申し込みください。（先着順受付）\n\n・ご
 希望のレッスン名\n・お名前／ご住所／お電話番号\n・
 ご年代（例：40代）\n\n【キャンセルについて】\n\n花材
 準備の都合上、お申し込みの時点でキャンセルはお受
 けできません。ご了承のうえ、お申し込みください。\n
 \n【注意事項】\n\n・お席は先着順となります。満席の
 場合、お時間の調整をお願いすることがございます。\n
 ・終了時間は前後する可能性がございますので、お時
 間にゆとりをもってご参加ください。\n・お写真はイメ
 ージです。花材や器のサイズにより仕上がりは異なり
 ます。ボリューム感などご希望がございましたら事前
 にご相談ください。\n・スムーズな進行のため、事前振
 込制 とさせていただきます。ご協力のほどよろしくお
 願いいたします。\n・誠に恐れ入りますが、花に関わる
 お仕事をされている方（パート勤務を含む）のご参加
 はご遠慮いただいております。\nギャザリング関係の方
 は歓迎です。事前にご相談ください。\n\n\nーーーーー\n
 \n講師 石川ふじこ\nhttps://lit.link/hanamaisonfujiko
LOCATION:
END:VEVENT
END:VCALENDAR
