BEGIN:VCALENDAR
VERSION:2.0
PRODID:-//chikkutakku.com//RDFCal 1.0//EN
X-WR-CALDESC:GoogleカレンダーやiCalendar形式情報を共有シェ
 アしましょう。近所のイベントから全国のイベントま
 で今日のイベント検索やスケジュールを決めるならち
 っくたっく
X-WR-CALNAME:ちっくたっく
X-WR-TIMEZONE:UTC
BEGIN:VEVENT
SUMMARY:［VRCHAT RPイベント]美術訓練館オーベロン
DTSTART;VALUE=DATE-TIME:20260423T130000Z
DTEND;VALUE=DATE-TIME:20260423T143000Z
UID:228734139460
DESCRIPTION:【イベント主催者】\n　とっととずらか郎\n【
 イベント内容】\n　人間に怪奇現象をもたらす美術品が
 集められる施設、「美術訓練館オーベロン」。\n絵画や
 彫刻、工芸品といった美術鑑賞品、もしくは学芸員で
 あるキャストたちとの対話を楽しめるRP（ロールプレイ
 ）イベントです。\n【イベントジャンル】\n　店舗系イ
 ベント\, ロールプレイ\n【参加条件（モデル、人数制限
 など）】\n　PC限定・NSFWや宗教・版権に触れないアバタ
 ーをご使用ください。\nまた、大きな音を出すなど、周
 りの方に迷惑をかけないようにお願いします。\n対話イ
 ベントのため、恐れ入りますが無言勢の方のご参加は
 お控えください。\n【参加方法】\n　当日21:55に主催「
 とっととずらか郎」に「招待をリクエスト」を送信。\n
 【備考】\n　
LOCATION:
END:VEVENT
END:VCALENDAR
