BEGIN:VCALENDAR
VERSION:2.0
PRODID:-//chikkutakku.com//RDFCal 1.0//EN
X-WR-CALDESC:GoogleカレンダーやiCalendar形式情報を共有シェ
 アしましょう。近所のイベントから全国のイベントま
 で今日のイベント検索やスケジュールを決めるならち
 っくたっく
X-WR-CALNAME:ちっくたっく
X-WR-TIMEZONE:UTC
BEGIN:VEVENT
SUMMARY:老後に備えて異世界で８万枚の金貨を貯めます１
 １　【電子特典付き】
DTSTART;VALUE=DATE:20260427
DTEND;VALUE=DATE:20260428
UID:229029187355
DESCRIPTION:2026-04-28老後に備えて異世界で８万枚の金貨を
 貯めます１１　【電子特典付き】FUNA/モトエ恵介講談社
LOCATION:
END:VEVENT
END:VCALENDAR
