BEGIN:VCALENDAR
VERSION:2.0
PRODID:-//chikkutakku.com//RDFCal 1.0//EN
X-WR-CALDESC:GoogleカレンダーやiCalendar形式情報を共有シェ
 アしましょう。近所のイベントから全国のイベントま
 で今日のイベント検索やスケジュールを決めるならち
 っくたっく
X-WR-CALNAME:ちっくたっく
X-WR-TIMEZONE:UTC
BEGIN:VEVENT
SUMMARY:【Android 対応】『川床泥酔部』毎日 夜12時からVR
 宴会✩雑談イベント！Group+インスタンス　
DTSTART;VALUE=DATE-TIME:20260420T150000Z
DTEND;VALUE=DATE-TIME:20260420T200000Z
UID:229267092058
DESCRIPTION:【イベント主催者】\n　kawahiro(かわひろ)\n【イ
 ベント内容】\n　毎日楽しく✩酒飲む人も飲まない人も
 皆でワイワイ雑談イベント！\n\n【イベントジャンル】\
 n　VR飲み会\, 店舗系イベント\, 初心者向けイベント\, 
 定期イベント\n【参加条件（モデル、人数制限など）】
 \n　※川床泥酔部で主催者以外がポータルを開くのは禁
 止\n※川床泥酔部の時間帯までインスタンスが残ってる
 他イベントの宣伝禁止\n\n【参加方法】\n　Group+インス
 タンス　KAWA.6135\n【備考】\n　
LOCATION:
END:VEVENT
END:VCALENDAR
