BEGIN:VCALENDAR
VERSION:2.0
PRODID:-//chikkutakku.com//RDFCal 1.0//EN
X-WR-CALDESC:GoogleカレンダーやiCalendar形式情報を共有シェ
 アしましょう。近所のイベントから全国のイベントま
 で今日のイベント検索やスケジュールを決めるならち
 っくたっく
X-WR-CALNAME:ちっくたっく
X-WR-TIMEZONE:UTC
BEGIN:VEVENT
SUMMARY:柳橋の弥平次捕物噺【一】 影法師〈新装版〉
DTSTART;VALUE=DATE:20260512
DTEND;VALUE=DATE:20260513
UID:229866463654
DESCRIPTION:2026-05-13柳橋の弥平次捕物噺【一】 影法師〈新
 装版〉藤井邦夫双葉社
LOCATION:
END:VEVENT
END:VCALENDAR
