BEGIN:VCALENDAR
VERSION:2.0
PRODID:-//chikkutakku.com//RDFCal 1.0//EN
X-WR-CALDESC:GoogleカレンダーやiCalendar形式情報を共有シェ
 アしましょう。近所のイベントから全国のイベントま
 で今日のイベント検索やスケジュールを決めるならち
 っくたっく
X-WR-CALNAME:ちっくたっく
X-WR-TIMEZONE:UTC
BEGIN:VEVENT
SUMMARY:バスケットボール（世田谷）
DTSTART;VALUE=DATE-TIME:20260514T080000Z
DTEND;VALUE=DATE-TIME:20260514T100000Z
UID:230248340312
DESCRIPTION:バスケットボール（世田谷）
LOCATION:大蔵第二体育館
END:VEVENT
END:VCALENDAR
