BEGIN:VCALENDAR
VERSION:2.0
PRODID:-//chikkutakku.com//RDFCal 1.0//EN
X-WR-CALDESC:GoogleカレンダーやiCalendar形式情報を共有シェ
 アしましょう。近所のイベントから全国のイベントま
 で今日のイベント検索やスケジュールを決めるならち
 っくたっく
X-WR-CALNAME:ちっくたっく
X-WR-TIMEZONE:UTC
BEGIN:VEVENT
SUMMARY:◆【3D音楽LIVE】「Premium Deep Live」開催！◆ 
DTSTART;VALUE=DATE-TIME:20260423T130000Z
DTEND;VALUE=DATE-TIME:20260423T143000Z
UID:230514552244
DESCRIPTION:【イベント主催者】\n　タムシャイン_tamshine\n
 【イベント内容】\n　ゲストを深掘りするトーク × ス
 ペシャルLIVE！\n会話と音楽の両方を楽しめるPDL新イベ
 ント\n\n＃出演\nゲスト｜セイ論主義 \nPDL｜タムシャイ
 ン × Chadora\nMC｜ゆきた\n\n#4/23（木） 22：00〜 Group＋\n＃V
 RChat ⁄ YouTube OnAir\n\n#イベントＸ告知\nhttps://x.com/projectPD
 L/status/2044718073832419420?s=20\n【イベントジャンル】\n　音
 楽系イベント\n【参加条件（モデル、人数制限など）】
 \n　※必ずpoor以下のアバターでご来場ください。\n【参
 加方法】\n　【YouTube配信】\n当日はPDL公式YouTubeチャン
 ネルで配信予定！\n以下のチャンネル登録をしてお待ち
 ください！\nhttps://youtube.com/@project_p.d.l\n\n【イベント参
 加する方】\nまずは下記URLからグループに参加！\n開催
 時間にGroup+インスタンスへJOINしてください✨\nhttps://vrc
 .group/PRPDL.0670\n#PDL_VR\n【備考】\n　◆イベントＸ告知\nhtt
 ps://x.com/projectPDL/status/2044718073832419420?s=20\n\n◆イベントX
 ハッシュタグ\n#PDL_VR
LOCATION:
END:VEVENT
END:VCALENDAR
