BEGIN:VCALENDAR
VERSION:2.0
PRODID:-//chikkutakku.com//RDFCal 1.0//EN
X-WR-CALDESC:GoogleカレンダーやiCalendar形式情報を共有シェ
 アしましょう。近所のイベントから全国のイベントま
 で今日のイベント検索やスケジュールを決めるならち
 っくたっく
X-WR-CALNAME:ちっくたっく
X-WR-TIMEZONE:UTC
BEGIN:VEVENT
SUMMARY: SALON CHERRY BLOSSOM～姉妹百合女学園コンセプトカフ
 ェ～
DTSTART;VALUE=DATE-TIME:20260424T130500Z
DTEND;VALUE=DATE-TIME:20260424T141500Z
UID:230728721525
DESCRIPTION:【イベント主催者】\n　Cham-0229\n【イベント内
 容】\n　由緒正しいミッション系お嬢様学園「聖桜花女
 学園」のサロンにゲスト様をお迎え\nし、ゆる～く姉妹
 百合RPしつつおもてなしをするコンセプトカフェ。\n当
 イベントは学園の世界観の中で姉妹や百合の尊さを見
 守るゆる～いRPイベントです。\n生徒達を見守りつつ、
 お客様は気を張らずにありのままでお過ごしください
 。\nお姉さまの優しい微笑み、妹の甘え声に心ほどける
 時間を。\n\n【参加方法】\n22˸05になりましたら、主催
 （Cham-0229）までリクインを1回お願いいたします。\nお
 連れ様はお一人までご同行可能です。\nスムーズなご入
 場のため、お二人とも事前に主催へのフレンド申請を
 お願いいたします。\n【イベントジャンル】\n　店舗系
 イベント\, ロールプレイ\, 定期イベント\n【参加条件（
 モデル、人数制限など）】\n　・日本語話者の方（無言
 勢の方OK！)\n・Quest単機不可\n・アバター容量35MB以下\n
 ・パーティクル、特殊なシェーダーギミック、ライト
 ギミック、視界ジャック、大きな音の出るアバター、
 センシティブなアバター、版権アバター、巨大なアバ
 ターの使用禁止\n・無断での動画撮影や配信の禁止\n【
 参加方法】\n　22:05になりましたら、主催までリクイン
 を1回お願いいたします。\nお連れ様をお1人ご招待いた
 だけます。お連れ様も主催へ事前フレンド申請をお忘
 れなく！\n【備考】\n　公式X：https://x.com/vrc_cherry_b\nグ
 ループ：https://vrc.group/SCBVRC.9684
LOCATION:
END:VEVENT
END:VCALENDAR
