BEGIN:VCALENDAR
VERSION:2.0
PRODID:-//chikkutakku.com//RDFCal 1.0//EN
X-WR-CALDESC:GoogleカレンダーやiCalendar形式情報を共有シェ
 アしましょう。近所のイベントから全国のイベントま
 で今日のイベント検索やスケジュールを決めるならち
 っくたっく
X-WR-CALNAME:ちっくたっく
X-WR-TIMEZONE:UTC
BEGIN:VEVENT
SUMMARY:【夜Live】吉祥寺 SHUFFLE
DTSTART;VALUE=DATE:20260510
DTEND;VALUE=DATE:20260511
UID:231167719503
DESCRIPTION:■イベント名小原涼ワンマン前連続生誕イベ
 ント 「おばらのLIVE HOUSEジャック大作戦」 ■日時 05
 月11日(月) 開場 18:15 / 開演 18:45■会場吉祥寺 SHUFFLE■料
 金3\,000円 （+1D） ■配信2\,000円（アーカイブ2週間）※
 定点カメラhttps://premier.twitcasting.tv/k_shuffle/shopcart/426710■
 予約https://tiget.net/events/477359
LOCATION:
END:VEVENT
END:VCALENDAR
