BEGIN:VCALENDAR
VERSION:2.0
PRODID:-//chikkutakku.com//RDFCal 1.0//EN
X-WR-CALDESC:GoogleカレンダーやiCalendar形式情報を共有シェ
 アしましょう。近所のイベントから全国のイベントま
 で今日のイベント検索やスケジュールを決めるならち
 っくたっく
X-WR-CALNAME:ちっくたっく
X-WR-TIMEZONE:UTC
BEGIN:VEVENT
SUMMARY:【Android 対応】【iOS対応】雑談Barイケオジ
DTSTART;VALUE=DATE-TIME:20260425T113000Z
DTEND;VALUE=DATE-TIME:20260425T124500Z
UID:231229673651
DESCRIPTION:【イベント主催者】\n　こいし好き\n【イベン
 ト内容】\n　当イベントはVRChat界隈屈指のゆるい居酒屋
 系Barとなっております！\n\nBarなのに居酒屋ってどうい
 うこと？と思った方はイベントに参加してその現場を
 目の当たりにしてください！\n\nアフターインスタンス
 を用意する関係上、インスタンスを閉じたりはしませ
 ん。\n\n当店は21:45（定刻）を過ぎた後はキャスト・お
 客様共に退店・再入場自由とさせていただいておりま
 す。（インスタンスが無くならない限り）\n\nキャスト
 経験ゼロの店長が無計画かつ突拍子もなく始めた交流
 系雑談Bar「イケオジ」、そんな雑談Barイケオジも2026年3
 月23日で開催から4か月が経過しました！\n\n2026年3月25日
 時点でグループ人数は1000人以上！\n\nこのイベントの主
 役はその場にいる全員です！ \n細かいルールなどはご
 ざいますが、自由に交流できる場となっております。\n
 \nこのイベントで楽しめるのは雑談だけではなく、プラ
 スで飲酒やイケオジも楽しめちゃうという、交流・飲
 酒・イケオジ好きにはたまらない場です！(放置･作業
 等もOK！)\n是非ご参加の方、お待ちしております！\n\n
 インスタンスは「グループオンリー」で建てる予定な
 のでグループ参加はお忘れずに！\n【イベントジャンル
 】\n　その他交流会\, 店舗系イベント\, 定期イベント\n
 【参加条件（モデル、人数制限など）】\n　アバターダ
 ウンロードサイズは40MB以下推奨です\n※なお超過して
 も罰則はありません\n版権・違法・リアルアバター・NSF
 Wは禁止しています。\n高負荷・広範囲なギミックやパ
 ーティクルの使用はお控えください。\n※ただし、自分
 で改変した場合に限り、パフォーマンスやショーとし
 て見せる分には問題ございません。\nそれ以外は自由で
 す。\n本店はキャスト込みで25人\nアフターはキャスト
 込みで50人です\n【参加方法】\n　グループ検索から「
 雑談Barイケオジ」で検索するか、グループID：｢BAR.6703
 」で検索してグループに参加。\nインスタンスが建てら
 れるまでお待ちください。\n【備考】\n　当店ではWindows
 、Android、iOSの方が一堂に会するため、アバターカリン
 グを強めに掛けることをお勧めしております。\n必要で
 あればイヤーマフの設定もお願いいたします。
LOCATION:
END:VEVENT
END:VCALENDAR
