BEGIN:VCALENDAR
VERSION:2.0
PRODID:-//chikkutakku.com//RDFCal 1.0//EN
X-WR-CALDESC:GoogleカレンダーやiCalendar形式情報を共有シェ
 アしましょう。近所のイベントから全国のイベントま
 で今日のイベント検索やスケジュールを決めるならち
 っくたっく
X-WR-CALNAME:ちっくたっく
X-WR-TIMEZONE:UTC
BEGIN:VEVENT
SUMMARY:カラー版 古代史の謎を解く! 日本の古墳100選
DTSTART;VALUE=DATE:20260427
DTEND;VALUE=DATE:20260428
UID:231590613987
DESCRIPTION:2026-04-28カラー版 古代史の謎を解く! 日本の古
 墳100選若狭 徹宝島社
LOCATION:
END:VEVENT
END:VCALENDAR
