BEGIN:VCALENDAR
VERSION:2.0
PRODID:-//chikkutakku.com//RDFCal 1.0//EN
X-WR-CALDESC:GoogleカレンダーやiCalendar形式情報を共有シェ
 アしましょう。近所のイベントから全国のイベントま
 で今日のイベント検索やスケジュールを決めるならち
 っくたっく
X-WR-CALNAME:ちっくたっく
X-WR-TIMEZONE:UTC
BEGIN:VEVENT
SUMMARY:(前売0k+1d) 笑う門には恋来たる Vol.10
DTSTART;VALUE=DATE-TIME:20260421T071000Z
DTEND;VALUE=DATE-TIME:20260421T120000Z
UID:231911212516
DESCRIPTION:<a href="https://x.com/hipburn_info/status/2041833442024013875
 ">https://x.com/hipburn_info/status/2041833442024013875</a><br>4/21(火)<b
 r>笑う門には恋来たる Vol.10<br>@日暮里ネコシアター<br>
 開場15:50/開演16:10<br>前方￥2000/通常￥0/当日+￥500 +1D<br>
 チケット⇒ <a href="http://t-dv.com/koikitaru_vol10">http://t-dv.com/
 koikitaru_vol10</a><br>※4/9(木)20時~発売<br><br>🔥出演18:15~18:3
 5<br>🔥物販18:40~19:40<br><br>【運営予約&amp\;入場特典】<br>
 ポイント券1枚<br>特典申込→ <a href="http://press-on.jp/hipburn
 /archives/6037">http://press-on.jp/hipburn/archives/6037</a><br><br><a hre
 f="https://ticketdive.com/event/koikitaru_vol10">https://ticketdive.com/ev
 ent/koikitaru_vol10</a><br>笑う門には恋来たるvol.10<br>公演日
 時<br>2026/4/21(火)<br>開場時刻 15:50 / 開演時刻 16:10<br>会場
 <br>日暮里ネコシアター<br>出演<br>笑う門には福来たる /
  恋に落ちる確率は0じゃないが限りなく低い / LittleSignal
  / 奏音コレクト / FLORERISA / スターチスのラブレター / 
 ぷれしゃすぱーてぃー / ヒップバーン / Ep!codE / ツボミ
 シンフォニー / AiliceNoa / HUSH HUSH / ソライロの涙
LOCATION:日暮里ネコシアター
END:VEVENT
END:VCALENDAR
