BEGIN:VCALENDAR
VERSION:2.0
PRODID:-//chikkutakku.com//RDFCal 1.0//EN
X-WR-CALDESC:GoogleカレンダーやiCalendar形式情報を共有シェ
 アしましょう。近所のイベントから全国のイベントま
 で今日のイベント検索やスケジュールを決めるならち
 っくたっく
X-WR-CALNAME:ちっくたっく
X-WR-TIMEZONE:UTC
BEGIN:VEVENT
SUMMARY:【学園型イベント】 VRCAcademy バーチャル沖縄合宿
DTSTART;VALUE=DATE-TIME:20260427T130000Z
DTEND;VALUE=DATE-TIME:20260427T140000Z
UID:232089373456
DESCRIPTION:【イベント主催者】\n　VRCAcademy/赤地の兎さん\
 n【イベント内容】\n　一人ひとりの挑戦と成長を支え
 る、学びと交流の学園型イベント『VRCAcademy』！\n\n2026
 年4月18日（土）〜5月1日（金）にて\n『第5期 講義集中
 期間』を開講中！\n\n得意分野を伸ばしたい方、次のス
 テップに挑戦したい方、\nVRChatでの活動を始めたい方へ
 。\nVRCAcademyでは、志を同じくする仲間と出会い、\n講義
 を通して“将来の進路を見つけるきっかけ”を提供す
 る学園型イベントです。\nバーチャル添乗員『赤地の兎
 さん』と一緒に\n沖縄のワールドを巡りながら、観光気
 分で楽しめる体験型イベント！バーチャル添乗員『赤
 地の兎さん』をお招きし、景色見たり、文化に触れた
 り、みんなでワイワイ交流しながら沖縄を満喫できま
 す！\n春の旅行気分、味わいに来ませんか？\n\nどなた
 でもご参加いただけます！\n【イベントジャンル】\n　
 その他交流会\n【参加条件（モデル、人数制限など）】
 \n　・入学申し込み／抽選／出席条件すべて不要！どな
 たでも参加OK！\n・インスタンス上限：40名（満員の場
 合は参加不可）\n・軽量アバター（0ポリ／Poor以下）へ
 の変更をお願いする場合があります\n\n【禁止事項】\n
 ・VRChat規約に反するアバターの使用\n・爆音／視界ジャ
 ックなど迷惑行為\n・差別／セクハラ／誹謗中傷などの
 行為\n・無許可での録音・録画（※撮影は講義ごとのル
 ールに準拠）\n【参加方法】\n　① グループ『【公式】
 VRCAcademy（ID：VRCAO.5583）』に参加\nhttps://vrc.group/VRCAO.5583\
 n\n② 当日、Group＋インスタンスにJoin\n【備考】\n　詳細
 は公式Xをご確認ください！\nhttps://x.com/VRC_Academy/status/20
 38911252710445201?s=20\n公式X：https://x.com/VRC_Academy
LOCATION:
END:VEVENT
END:VCALENDAR
