BEGIN:VCALENDAR
VERSION:2.0
PRODID:-//chikkutakku.com//RDFCal 1.0//EN
X-WR-CALDESC:GoogleカレンダーやiCalendar形式情報を共有シェ
 アしましょう。近所のイベントから全国のイベントま
 で今日のイベント検索やスケジュールを決めるならち
 っくたっく
X-WR-CALNAME:ちっくたっく
X-WR-TIMEZONE:UTC
BEGIN:VEVENT
SUMMARY:【Android 対応】【初心者歓迎】ホストイベント「C
 HC」
DTSTART;VALUE=DATE-TIME:20260425T124500Z
DTEND;VALUE=DATE-TIME:20260425T140000Z
UID:232195933425
DESCRIPTION:【イベント主催者】\n　ふゆちゃんまん\n【イ
 ベント内容】\n　CHCは1対1でホストとのお話しができる
 ホストクラブイベントとなっております。\n20分毎にホ
 ストがローテーションするので様々なホストと楽しい
 時間をお過ごしできます。\n3回以上の来店でVIPになり
 指名が可能にもなります。\nぜひここでしか味わえない
 素敵な時間をお過ごしください。\n【イベントジャンル
 】\n　VR飲み会\, 店舗系イベント\, 初心者向けイベント\
 , 定期イベント\n【参加条件（モデル、人数制限など）
 】\n　参加人数には限りがございます。21時45分ににな
 りましたらお早めに待機所インスタンスにお入りくだ
 さい。\n【参加方法】\n　CHCのグループ(CHANMA.3475)のグル
 ープインスタンスにて待機所を立てますので予めご参
 加いただき、21時45分になりましたらそちらにJOINをお願
 いいたします。\nhttps://vrc.group/CHANMA.3475\n【備考】\n　htt
 ps://x.com/chclub0909?s=21&t=8KSeovlWrEOXliLDvZmQ9A
LOCATION:
END:VEVENT
END:VCALENDAR
