BEGIN:VCALENDAR
VERSION:2.0
PRODID:-//chikkutakku.com//RDFCal 1.0//EN
X-WR-CALDESC:GoogleカレンダーやiCalendar形式情報を共有シェ
 アしましょう。近所のイベントから全国のイベントま
 で今日のイベント検索やスケジュールを決めるならち
 っくたっく
X-WR-CALNAME:ちっくたっく
X-WR-TIMEZONE:UTC
BEGIN:VEVENT
SUMMARY:2IBST Shooting League
DTSTART;VALUE=DATE-TIME:20260423T233000Z
DTEND;VALUE=DATE-TIME:20260424T033000Z
UID:232213510499
DESCRIPTION:2 If By Sea Tactical Shooting Leagues.  $20.  Our shooting 
 leagues are non-affiliated\, low-pressure\, and all about skill-building\,
  friendly competition\, and a great time on the range. No memberships requ
 ired.  Contact is Dano at danozampa@2ifbyseatactical.com.
LOCATION:2 If By Sea Tactical\, 222 2nd Ave SW\, New Prague\, MN 56071\, U
 SA
END:VEVENT
END:VCALENDAR
