BEGIN:VCALENDAR
VERSION:2.0
PRODID:-//chikkutakku.com//RDFCal 1.0//EN
X-WR-CALDESC:GoogleカレンダーやiCalendar形式情報を共有シェ
 アしましょう。近所のイベントから全国のイベントま
 で今日のイベント検索やスケジュールを決めるならち
 っくたっく
X-WR-CALNAME:ちっくたっく
X-WR-TIMEZONE:UTC
BEGIN:VEVENT
SUMMARY:アルマーク５　新たなる仲間編
DTSTART;VALUE=DATE:20260423
DTEND;VALUE=DATE:20260424
UID:232390485507
DESCRIPTION:2026-04-24アルマーク５　新たなる仲間編やまだ
 　のぼる/柚ノ木　ヒヨト/出水ぽすかKADOKAWA
LOCATION:
END:VEVENT
END:VCALENDAR
