BEGIN:VCALENDAR
VERSION:2.0
PRODID:-//chikkutakku.com//RDFCal 1.0//EN
X-WR-CALDESC:GoogleカレンダーやiCalendar形式情報を共有シェ
 アしましょう。近所のイベントから全国のイベントま
 で今日のイベント検索やスケジュールを決めるならち
 っくたっく
X-WR-CALNAME:ちっくたっく
X-WR-TIMEZONE:UTC
BEGIN:VEVENT
SUMMARY:อบรม หลักสูตรการฝึกอบร
 มทันตกรรมผู้สูงอายุ สาขาเ
 วชศาสตร์ช่องปาก ระยะสั้น 4 
 เดือน เรื่อง “การจัดการ ดู
 แล และการรักษาผู้ป่วยสูงอ
 ายุที่มีรอยโรคช่องปากที่
 พบบ่อย” รุ่นที่ 3 พ.ศ. 2569 👵
DTSTART;VALUE=DATE:20260510
DTEND;VALUE=DATE:20260515
UID:232831662186
DESCRIPTION:📣เปิดรับสมัครผู้เข้า
 ร่วมอบรม หลักสูตรการฝึกอบ
 รมทันตกรรมผู้สูงอายุ สาขา
 เวชศาสตร์ช่องปาก ระยะสั้น 
 4 เดือนเรื่อง “การจัดการ ดู
 แล และการรักษาผู้ป่วยสูงอ
 ายุที่มีรอยโรคช่องปากที่
 พบบ่อย” รุ่นที่ 3 พ.ศ. 2569 👵โดย
 ภาควิชาเวชศาสตร์ช่องปากแ
 ละปริทันตวิทยา ร่วมกับศูน
 ย์การศึกษาต่อเนื่องและบร
 ิการวิชาการ คณะทันตแพทยศา
 สตร์ มหาวิทยาลัยมหิดลข่าว
 ประชาสัมพันธ์จาก : ศูนย์กา
 รศึกษาต่อเนื่องและบริการ
 วิชาการ🗓️ ระยะเวลาการฝึกอ
 บรม ระหว่างเดือนพฤษภาคม – 
 เดือนสิงหาคม 2569โดยแบ่งเป็น
  4 modules🔸Module 1: วันที่ 11-15 พฤษภาคม 256
 9🔸Module 2: วันที่ 8-12 มิถุนายน 2569🔸Mo
 dule 3: วันที่ 6-10 กรกฎาคม 2569🔸Module 4: 
 วันที่ 3-7 สิงหาคม 2569📍 ครอบคล
 ุมการบรรยาย อภิปราย/นำเสนอ
 กรณีผู้ป่วย สัมมนาบทความท
 างวิชาการ การฝึกปฏิบัติจร
 ิงในคลินิก สังเกตการณ์ และ
 การศึกษาดูงานลงทะเบียนได
 ้ที่ https://dtcon.mahidol.ac.th/view/1101💷 ค่าลงท
 ะเบียน 65\,000 บาท/คน✨ พิเศษสำหร
 ับผู้เข้าร่วมอบรม✨ ผู้เข้
 ารับการอบรม จะได้ฟังบรรยา
 ยแบบ online โครงการศึกษาต่อเนื
 ่องและบริการวิชาการ ภาควิ
 ชาเวชศาสตร์ช่องปากและปริ
 ทันตวิทยา เรื่อง Practical Approaches to OPM
 Ds: Perspectives from Oral Medicine\, Oral Pathology\, and Oral Surgery 
 ในวันที่ 31 มีนาคม - 1 เมษายน 2569
  (ฟรี โดยไม่เสียค่าลงทะเบี
 ยน)Link ข่าวประชาสัมพันธ์ : https://
 dt.mahidol.ac.th/news/news-20260129-3/
LOCATION:
END:VEVENT
END:VCALENDAR
