BEGIN:VCALENDAR
VERSION:2.0
PRODID:-//chikkutakku.com//RDFCal 1.0//EN
X-WR-CALDESC:GoogleカレンダーやiCalendar形式情報を共有シェ
 アしましょう。近所のイベントから全国のイベントま
 で今日のイベント検索やスケジュールを決めるならち
 っくたっく
X-WR-CALNAME:ちっくたっく
X-WR-TIMEZONE:UTC
BEGIN:VEVENT
SUMMARY:SPSSでやさしく学ぶアンケート処理
DTSTART;VALUE=DATE:20260429
DTEND;VALUE=DATE:20260430
UID:233102257123
DESCRIPTION:2026-04SPSSでやさしく学ぶアンケート処理石村友
 二郎/加藤千恵子東京図書
LOCATION:
END:VEVENT
END:VCALENDAR
