BEGIN:VCALENDAR
VERSION:2.0
PRODID:-//chikkutakku.com//RDFCal 1.0//EN
X-WR-CALDESC:GoogleカレンダーやiCalendar形式情報を共有シェ
 アしましょう。近所のイベントから全国のイベントま
 で今日のイベント検索やスケジュールを決めるならち
 っくたっく
X-WR-CALNAME:ちっくたっく
X-WR-TIMEZONE:UTC
BEGIN:VEVENT
SUMMARY:05/12 ~ 05/13 1142-高級部一、二年級第二次期中考(三
 年級正常上課)
DTSTART;VALUE=DATE:20260511
DTEND;VALUE=DATE:20260513
UID:233265804731
DESCRIPTION:05/12 ~ 05/13 1142-高級部一、二年級第二次期中考(
 三年級正常上課)
LOCATION:
END:VEVENT
END:VCALENDAR
