BEGIN:VCALENDAR
VERSION:2.0
PRODID:-//chikkutakku.com//RDFCal 1.0//EN
X-WR-CALDESC:GoogleカレンダーやiCalendar形式情報を共有シェ
 アしましょう。近所のイベントから全国のイベントま
 で今日のイベント検索やスケジュールを決めるならち
 っくたっく
X-WR-CALNAME:ちっくたっく
X-WR-TIMEZONE:UTC
BEGIN:VEVENT
SUMMARY:【注】神の庭付き楠木邸 #1 神の庭に山の神、来
 たる / #2 御山の祠と、庭の御神木 / #3 風の力、神域に
 て修行せよ / #4 異界の悪霊祓いへ、いざ出陣
DTSTART;VALUE=DATE-TIME:20260426T013000Z
DTEND;VALUE=DATE-TIME:20260426T033000Z
UID:233625792256
DESCRIPTION: / #1 神の庭に山の神、来たる / #2 御山の祠と
 、庭の御神木 / #3 風の力、神域にて修行せよ / #4 異界
 の悪霊祓いへ、いざ出陣 / https://abema.tv/channels/abema-anime/
 slots/Ah77p9p5z6hoXD リピート放送は ABEMA アニメチャンネル3
  15:00～ https://abema.tv/channels/abema-anime-3/slots/Ah77oqJtWbPB3u ※
 無料TSなし
LOCATION:Abemaアニメ
END:VEVENT
END:VCALENDAR
