BEGIN:VCALENDAR
VERSION:2.0
PRODID:-//chikkutakku.com//RDFCal 1.0//EN
X-WR-CALDESC:GoogleカレンダーやiCalendar形式情報を共有シェ
 アしましょう。近所のイベントから全国のイベントま
 で今日のイベント検索やスケジュールを決めるならち
 っくたっく
X-WR-CALNAME:ちっくたっく
X-WR-TIMEZONE:UTC
BEGIN:VEVENT
SUMMARY:【Android 対応】MBTI診断で友達を作ろう！
DTSTART;VALUE=DATE-TIME:20260425T130000Z
DTEND;VALUE=DATE-TIME:20260425T145900Z
UID:234533785381
DESCRIPTION:【イベント主催者】\n　yukina222\n【イベント内
 容】\n　イベントで使用するワールド「Personally Match」
 には8軒の家があります。簡単な性格診断テストを受け
 ると、あなたの性格タイプが16種類のうちの1つに分類
 され、その結果に基づいてあなたの入る家が決まりま
 す。あなたと同じ家には、同じ性格の人や最も相性の
 良い人が入ります。相性の良いアバターと出会える交
 流イベントです。\n【イベントジャンル】\n　その他交
 流会\, 初心者向けイベント\, 定期イベント\n【参加条件
 （モデル、人数制限など）】\n　なし\n【参加方法】\n
 　「Personally Match」でワールド検索してください。パブ
 リックです。\nグループ「personally match 開催通知」に参
 加いただくと開催時間前に通知を受け取れます。\n【備
 考】\n　主催者による司会進行はありません。\n途中参
 加、途中退出OK\n参加者の皆さんは、新しい出会いやお
 しゃべりを楽しみに参加しているので、VRを始めたばか
 りの方にもおすすめです！
LOCATION:
END:VEVENT
END:VCALENDAR
