BEGIN:VCALENDAR
VERSION:2.0
PRODID:-//chikkutakku.com//RDFCal 1.0//EN
X-WR-CALDESC:GoogleカレンダーやiCalendar形式情報を共有シェ
 アしましょう。近所のイベントから全国のイベントま
 で今日のイベント検索やスケジュールを決めるならち
 っくたっく
X-WR-CALNAME:ちっくたっく
X-WR-TIMEZONE:UTC
BEGIN:VEVENT
SUMMARY:DEF CON Singapore
DTSTART;VALUE=DATE:20260427
DTEND;VALUE=DATE:20260430
UID:234993654236
DESCRIPTION:https://defcon.org/html/defcon-singapore/dc-singapore-index.ht
 ml
LOCATION:シンガポール　マリーナベイ・サンズ
END:VEVENT
END:VCALENDAR
