BEGIN:VCALENDAR
VERSION:2.0
PRODID:-//chikkutakku.com//RDFCal 1.0//EN
X-WR-CALDESC:GoogleカレンダーやiCalendar形式情報を共有シェ
 アしましょう。近所のイベントから全国のイベントま
 で今日のイベント検索やスケジュールを決めるならち
 っくたっく
X-WR-CALNAME:ちっくたっく
X-WR-TIMEZONE:UTC
BEGIN:VEVENT
SUMMARY:โครงการพัฒนาสมรรถนะการ
 ปฏิบัติการสอนนิสิต หลักสู
 ตรการศึกษาบัณฑิต 4 ปี
DTSTART;VALUE=DATE-TIME:20260505T003000Z
DTEND;VALUE=DATE-TIME:20260505T073000Z
UID:235716701984
DESCRIPTION:โครงการพัฒนาสมรรถนะก
 ารปฏิบัติการสอนนิสิต หลัก
 สูตรการศึกษาบัณฑิต 4 ปี (กิ
 จกรรมปฐมนิเทศการปฏิบัติก
 ารสอน รายวิชา ศษ491 การปฏิบั
 ติการสอน 4) ปีการศึกษา: 2569หน
 ่วยงานผู้จัด: คณะศึกษาศาส
 ตร์วันที่จัดกิจกรรม: วันท
 ี่ 5 พฤษภาคม 2569ช่วงเวลากิจกร
 รมทั้งหมด: 07:30 – 14:30 น.เวลาที่เ
 ชิญปฏิบัติภารกิจ: 08:30 – 09:00 น.ส
 ถานที่:โรงแรมปรินซ์ พาเลซ 
 กรุงเทพฯวัตถุประสงค์:เพื่
 อให้นิสิตมีความรู้ ความเข
 ้าใจเกี่ยวกับการปฏิบัติก
 ารสอนเพื่อให้นิสิตตระหนั
 กถึงความสำคัญของการฝึกปร
 ะสบการณ์วิชาชีพครูเพื่อส
 ร้างความเข้าใจเกี่ยวกับแ
 นวทางการพัฒนางานวิจัยในช
 ั้นเรียนรายละเอียดเพิ่มเ
 ติม:ดำเนินการภายใต้โครงกา
 รพัฒนาสมรรถนะการปฏิบัติก
 ารสอนนิสิตหลักสูตรการศึก
 ษาบัณฑิต 4 ปีกิจกรรมปฐมนิเ
 ทศการปฏิบัติการสอน รายวิช
 า ศษ491 การปฏิบัติการสอน 4 ตาม
 กำหนดการที่แนบ ผู้ประสานง
 าน พี่มล 15508มอบหมาย (อาจารย์ 
 ดร.ณประภาพร รุจจนเวท)รองคณ
 บดีฝ่ายพัฒนาศักยภาพนิสิต
 และกิจการพิเศษ เข้าร่วมแท
 นคณบดีคณบดีคณะมนุษยศาสตร
 ์
LOCATION:โรงแรมปรินซ์ พาเลซ กรุง
 เทพฯ
END:VEVENT
END:VCALENDAR
