BEGIN:VCALENDAR
VERSION:2.0
PRODID:-//chikkutakku.com//RDFCal 1.0//EN
X-WR-CALDESC:GoogleカレンダーやiCalendar形式情報を共有シェ
 アしましょう。近所のイベントから全国のイベントま
 で今日のイベント検索やスケジュールを決めるならち
 っくたっく
X-WR-CALNAME:ちっくたっく
X-WR-TIMEZONE:UTC
BEGIN:VEVENT
SUMMARY:M126-1002-Schmidt:Tyler
DTSTART;VALUE=DATE-TIME:20260506T190000Z
DTEND;VALUE=DATE-TIME:20260506T210000Z
UID:235786051604
DESCRIPTION:M126-1002-Schmidt:Tyler
LOCATION:AB 101
END:VEVENT
END:VCALENDAR
