BEGIN:VCALENDAR
VERSION:2.0
PRODID:-//chikkutakku.com//RDFCal 1.0//EN
X-WR-CALDESC:GoogleカレンダーやiCalendar形式情報を共有シェ
 アしましょう。近所のイベントから全国のイベントま
 で今日のイベント検索やスケジュールを決めるならち
 っくたっく
X-WR-CALNAME:ちっくたっく
X-WR-TIMEZONE:UTC
BEGIN:VEVENT
SUMMARY:Hope Gathering
DTSTART;VALUE=DATE-TIME:20260503T190000Z
DTEND;VALUE=DATE-TIME:20260503T210000Z
UID:236205657203
DESCRIPTION:Will need end doors unlocked about 1:30 pm.
LOCATION:Adlut 2\, 111W
END:VEVENT
END:VCALENDAR
