BEGIN:VCALENDAR
VERSION:2.0
PRODID:-//chikkutakku.com//RDFCal 1.0//EN
X-WR-CALDESC:GoogleカレンダーやiCalendar形式情報を共有シェ
 アしましょう。近所のイベントから全国のイベントま
 で今日のイベント検索やスケジュールを決めるならち
 っくたっく
X-WR-CALNAME:ちっくたっく
X-WR-TIMEZONE:UTC
BEGIN:VEVENT
SUMMARY:プラムちゃんカフェ＆Bar めるぷらむ
DTSTART;VALUE=DATE-TIME:20260519T130000Z
DTEND;VALUE=DATE-TIME:20260519T143000Z
UID:236369800476
DESCRIPTION:【イベント主催者】\n　ないちぃ\n【イベント
 内容】\n　※今回はカフェイベント\n\nキャストはプラ
 ムちゃんonly！\n基本 お客様２人、キャスト１人\n１ロ
 ーテ15分を３ローテ行う接客カフェイベントです！\n\n
 ぜひかわいいプラムちゃんの接客をお楽しみください
 ！\n【イベントジャンル】\n　店舗系イベント\, ロール
 プレイ\n【参加条件（モデル、人数制限など）】\n　・P
 C版only\n・アバター容量５０MB未満制限\n・アバターの身
 長は１６０ｃｍまで\n・版権アバターの着用禁止\n・ア
 バターギミックの使用禁止（ポーズシステムなどの便
 利系をのぞく）\n・イベント中フレンド申請はNG。\n・
 公序良俗に反する事の禁止\n・各ローテーション内での
 写真撮影、集合写真以外のフライングカメラ禁止\n・動
 画撮影、配信等はイベント通して（アフターを含む）
 禁止（事前承認の上、許可。お問い合わせは公式XのDM
 まで）\n【参加方法】\n　開催時間になったら当グルー
 プが立てるグループorグループ＋インスタンスにジョイ
 ン\n【備考】\n　
LOCATION:
END:VEVENT
END:VCALENDAR
