BEGIN:VCALENDAR
VERSION:2.0
PRODID:-//chikkutakku.com//RDFCal 1.0//EN
X-WR-CALDESC:GoogleカレンダーやiCalendar形式情報を共有シェ
 アしましょう。近所のイベントから全国のイベントま
 で今日のイベント検索やスケジュールを決めるならち
 っくたっく
X-WR-CALNAME:ちっくたっく
X-WR-TIMEZONE:UTC
BEGIN:VEVENT
SUMMARY:魔法練習生 リリ・ラズベリー（1）
DTSTART;VALUE=DATE:20260512
DTEND;VALUE=DATE:20260513
UID:237147611071
DESCRIPTION:2026-05-13魔法練習生 リリ・ラズベリー（1）遠
 山 えま講談社
LOCATION:
END:VEVENT
END:VCALENDAR
