BEGIN:VCALENDAR
VERSION:2.0
PRODID:-//chikkutakku.com//RDFCal 1.0//EN
X-WR-CALDESC:GoogleカレンダーやiCalendar形式情報を共有シェ
 アしましょう。近所のイベントから全国のイベントま
 で今日のイベント検索やスケジュールを決めるならち
 っくたっく
X-WR-CALNAME:ちっくたっく
X-WR-TIMEZONE:UTC
BEGIN:VEVENT
SUMMARY:【Android 対応】心のとまり木「Teufel collectio」
DTSTART;VALUE=DATE-TIME:20260424T110000Z
DTEND;VALUE=DATE-TIME:20260424T120000Z
UID:237251063764
DESCRIPTION:【イベント主催者】\n　すぅぱぁ冷奴\n【イベ
 ント内容】\n　来られたお客様方にコーヒーとカクテル
 のメニューをお渡しし、ご注文をいただき飲み物をお
 渡しします。\n他のお客様方とのコミュニケーションや
 くつろぐ場、またはイベント前の待機所としてご活用
 下さいませ。\n【イベントジャンル】\n　その他交流会\
 , 店舗系イベント\, ロールプレイ\, 定期イベント\n【参
 加条件（モデル、人数制限など）】\n　特にありません
 \n【参加方法】\n　グループ『心のとまり木「Teufel collec
 tio」』に入っていただき、グループインスタンスから
 ご参加ください。\nまた、Teufel collectio専用のワールド
 にて行いますのでワールドのインスタンス一覧よりご
 参加ください。\n【備考】\n　公序良俗に反するアバタ
 ーの使用、行為は禁止とします。\n視界ジャックなど他
 のお客様のご迷惑になるようなことはお控えください
 。\nまた、日本人以外の方がご来店されますと対応しか
 ねる場合がございます。ご了承下さい。
LOCATION:
END:VEVENT
END:VCALENDAR
