BEGIN:VCALENDAR
VERSION:2.0
PRODID:-//chikkutakku.com//RDFCal 1.0//EN
X-WR-CALDESC:GoogleカレンダーやiCalendar形式情報を共有シェ
 アしましょう。近所のイベントから全国のイベントま
 で今日のイベント検索やスケジュールを決めるならち
 っくたっく
X-WR-CALNAME:ちっくたっく
X-WR-TIMEZONE:UTC
BEGIN:VEVENT
SUMMARY:資訊素養講座-網路詐騙防治與個資保護(前鎮國中)
DTSTART;VALUE=DATE-TIME:20260513T100000Z
DTEND;VALUE=DATE-TIME:20260513T110000Z
UID:238648106008
DESCRIPTION:資訊素養講座-網路詐騙防治與個資保護(前鎮國
 中)
LOCATION:
END:VEVENT
END:VCALENDAR
